BEGIN:VCALENDAR
VERSION:2.0
PRODID:-//Bella con alopecia - ECPv6.9.0//NONSGML v1.0//EN
CALSCALE:GREGORIAN
METHOD:PUBLISH
X-WR-CALNAME:Bella con alopecia
X-ORIGINAL-URL:https://bellaconalopecia.com
X-WR-CALDESC:Eventos para Bella con alopecia
REFRESH-INTERVAL;VALUE=DURATION:PT1H
X-Robots-Tag:noindex
X-PUBLISHED-TTL:PT1H
BEGIN:VTIMEZONE
TZID:UTC
BEGIN:STANDARD
TZOFFSETFROM:+0000
TZOFFSETTO:+0000
TZNAME:UTC
DTSTART:20230101T000000
END:STANDARD
END:VTIMEZONE
BEGIN:VEVENT
DTSTART;TZID=UTC:20230918T173000
DTEND;TZID=UTC:20230918T190000
DTSTAMP:20260419T140409
CREATED:20230713T085222Z
LAST-MODIFIED:20230713T085441Z
UID:3347-1695058200-1695063600@bellaconalopecia.com
SUMMARY:Webinar gratuito "Siéntete bien con o sin pelo"
DESCRIPTION:Durante hora y media compartiré contigo las herramientas que conozco más poderosas para sentirse bien con o sin pelo. No lo pienses más y apúntate. Hasta pronto \n \nCompártelo y ayudarás:
URL:https://bellaconalopecia.com/event/webinar-gratuito-sientete-bien-con-o-sin-pelo-3/
END:VEVENT
BEGIN:VEVENT
DTSTART;TZID=UTC:20230918T110000
DTEND;TZID=UTC:20230918T123000
DTSTAMP:20260419T140409
CREATED:20230713T084658Z
LAST-MODIFIED:20230713T085647Z
UID:3346-1695034800-1695040200@bellaconalopecia.com
SUMMARY:Webinar gratuito "Siéntete bien con o sin pelo"
DESCRIPTION:Durante hora y media compartiré contigo las herramientas que conozco más poderosas para sentirse bien con o sin pelo. No lo pienses más y apúntate. Hasta pronto \n \nCompártelo y ayudarás:
URL:https://bellaconalopecia.com/event/webinar-gratuito-sientete-bien-con-o-sin-pelo-copy/
END:VEVENT
BEGIN:VEVENT
DTSTART;TZID=UTC:20230912T170000
DTEND;TZID=UTC:20230912T183000
DTSTAMP:20260419T140409
CREATED:20230713T084255Z
LAST-MODIFIED:20230713T084255Z
UID:3339-1694538000-1694543400@bellaconalopecia.com
SUMMARY:Webinar gratuito "Siéntete bien con o sin pelo"
DESCRIPTION:Durante hora y media compartiré contigo las herramientas que conozco más poderosas para sentirse bien con o sin pelo. No lo pienses más y apúntate. Hasta pronto \n \nCompártelo y ayudarás:
URL:https://bellaconalopecia.com/event/webinar-gratuito-sientete-bien-con-o-sin-pelo-2/
END:VEVENT
BEGIN:VEVENT
DTSTART;TZID=UTC:20230912T100000
DTEND;TZID=UTC:20230912T113000
DTSTAMP:20260419T140409
CREATED:20230713T083818Z
LAST-MODIFIED:20230713T084412Z
UID:3336-1694512800-1694518200@bellaconalopecia.com
SUMMARY:Webinar gratuito "Siéntete bien con o sin pelo"
DESCRIPTION:Durante hora y media compartiré contigo las herramientas que conozco más poderosas para sentirse bien con o sin pelo. No lo pienses más y apúntate. Hasta pronto \n \nCompártelo y ayudarás:
URL:https://bellaconalopecia.com/event/webinar-gratuito-sientete-bien-con-o-sin-pelo/
END:VEVENT
END:VCALENDAR